BEGIN:VCALENDAR
VERSION:2.0
PRODID:-//gabrielekoch.net - ECPv6.3.1//NONSGML v1.0//EN
CALSCALE:GREGORIAN
METHOD:PUBLISH
X-ORIGINAL-URL:https://gabrielekoch.net
X-WR-CALDESC:Veranstaltungen für gabrielekoch.net
REFRESH-INTERVAL;VALUE=DURATION:PT1H
X-Robots-Tag:noindex
X-PUBLISHED-TTL:PT1H
BEGIN:VTIMEZONE
TZID:Europe/Berlin
BEGIN:DAYLIGHT
TZOFFSETFROM:+0100
TZOFFSETTO:+0200
TZNAME:CEST
DTSTART:20250330T010000
END:DAYLIGHT
BEGIN:STANDARD
TZOFFSETFROM:+0200
TZOFFSETTO:+0100
TZNAME:CET
DTSTART:20251026T010000
END:STANDARD
END:VTIMEZONE
BEGIN:VEVENT
DTSTART;TZID=Europe/Berlin:20250403T200000
DTEND;TZID=Europe/Berlin:20250403T214500
DTSTAMP:20260419T162911
CREATED:20241212T170601Z
LAST-MODIFIED:20250316T131410Z
UID:2833-1743710400-1743716700@gabrielekoch.net
SUMMARY:Contact Improvisation - Body Communication Open Class
DESCRIPTION:Die  Klasse läd Neuling wie auch erfahrene Tänzer*innen ein in den nonverbalen Dialog zu gehen\, sich spielerisch mit dem Körper auseinanderzusetzen: wir spielen mit dem Teilen von Gewicht\, dem gemeinsamen Fließen\, auf dem Weg sowohl Durchlässigkeit wie auch Stabilität zu finden\, verschiedene Qualitäten zu erleben und sich in ihnen zu bewegen \nIch lerne meinen Körper und wie ich auf Impulse reagiere kennen\, verfeinere meine Wahrnehmung\, vertiefe meine Körpererfahrung\, mit dem Ergebnis mich leicht und frei mit mir und Anderen zu bewegen. \nKlasse 20-21.45\, Praxisraum bis 22.15\nDieser Kurs ist Teil des Entwicklungsprojekts der Akademie der Kulturen NRW \nEinstieg jederzeit möglich! \n21 Termine bis zu den Sommerferien/nicht an Ferien- und Feiertagen\nmonatlich 65\,-€
URL:https://gabrielekoch.net/event/contact-improvisation-open-class-11/
LOCATION:Resonanzraum\, Brunnenstr. 24\, Wuppertal\, NRW\, 42105\, Deutschland
ATTACH;FMTTYPE=image/jpeg:https://gabrielekoch.net/wp-content/uploads/2023/09/photo_2023-09-01_20-40-15.jpg
END:VEVENT
BEGIN:VEVENT
DTSTART;TZID=Europe/Berlin:20250406T080000
DTEND;TZID=Europe/Berlin:20250406T170000
DTSTAMP:20260419T162911
CREATED:20250114T113658Z
LAST-MODIFIED:20250114T113658Z
UID:2890-1743926400-1743958800@gabrielekoch.net
SUMMARY:Kleidertausch & Nachbarschaftsplausch
DESCRIPTION:Ein herzliches Willkommenm an alle Nachbarn von nah oder fern! \nLasst uns einen gemütlichen Sonntag verbringen. Bringt guterhaltene Kleidung oder nehmt stöbert einfach\, ob ihr was tolles findet. \nPlauscht mit Nachbarn\, bei einem warmen Tee\, Punsch oder Kaffee und Knabbereien!\nEs gibt auch raum sich auf Matten mit Acroyogea auszutoben! \nNächste Termine: 2.Februar & 6.April \nSPECIAL EVENT:\nAm 2. März ist Kanreval und ausdem Anlass machen wir eine Tanz – und Tasuschparty!!!\nIhr könnt einfach\, wie immer kommen und mit uns plauschen und tauschen. \nDazu gibt es feine\, tanzbare Musik und vielleich findet man das ein oder andere Prunkstück\, den witzigen Gimmeck\,\ndas Prinzessinenkleid oder den Hippie-\, Punk- oder Trashoutfit und lässt sich tanzend in einer neuen Rolle treiben. \nZur Musik auf die Ohren gibt es noch prickelden Prosecco auf Spendenbasis!
URL:https://gabrielekoch.net/event/kleidertausch-nachbarschaftsplausch-5/
LOCATION:Resonanzraum\, Brunnenstr. 24\, Wuppertal\, NRW\, 42105\, Deutschland
ATTACH;FMTTYPE=image/jpeg:https://gabrielekoch.net/wp-content/uploads/2025/01/Kleider-Tausch.jpg
END:VEVENT
BEGIN:VEVENT
DTSTART;TZID=Europe/Berlin:20250424T200000
DTEND;TZID=Europe/Berlin:20250424T214500
DTSTAMP:20260419T162911
CREATED:20250316T131700Z
LAST-MODIFIED:20250316T131700Z
UID:2934-1745524800-1745531100@gabrielekoch.net
SUMMARY:Contact Improvisation - Body Communication Open Class
DESCRIPTION:Die  Klasse läd Neuling wie auch erfahrene Tänzer*innen ein in den nonverbalen Dialog zu gehen\, sich spielerisch mit dem Körper auseinanderzusetzen: wir spielen mit dem Teilen von Gewicht\, dem gemeinsamen Fließen\, auf dem Weg sowohl Durchlässigkeit wie auch Stabilität zu finden\, verschiedene Qualitäten zu erleben und sich in ihnen zu bewegen \nIch lerne meinen Körper und wie ich auf Impulse reagiere kennen\, verfeinere meine Wahrnehmung\, vertiefe meine Körpererfahrung\, mit dem Ergebnis mich leicht und frei mit mir und Anderen zu bewegen. \nKlasse 20-21.45\, Praxisraum bis 22.15\nDieser Kurs ist Teil des Entwicklungsprojekts der Akademie der Kulturen NRW \nEinstieg jederzeit möglich! \n21 Termine bis zu den Sommerferien/nicht an Ferien- und Feiertagen\nmonatlich 65\,-€
URL:https://gabrielekoch.net/event/contact-improvisation-body-communication-open-class/
LOCATION:Resonanzraum\, Brunnenstr. 24\, Wuppertal\, NRW\, 42105\, Deutschland
ATTACH;FMTTYPE=image/jpeg:https://gabrielekoch.net/wp-content/uploads/2023/09/photo_2023-09-01_20-40-15.jpg
END:VEVENT
BEGIN:VEVENT
DTSTART;TZID=Europe/Berlin:20250425T190000
DTEND;TZID=Europe/Berlin:20250425T233000
DTSTAMP:20260419T162911
CREATED:20250318T174233Z
LAST-MODIFIED:20250326T095022Z
UID:3017-1745607600-1745623800@gabrielekoch.net
SUMMARY:Neotango - Jamilonga
DESCRIPTION:Zur Jamilonga laden wir alle Menschen ein\, die sich einen entspannten\, toleranten und achtsamen Raum wünschen sich auszuprobieren\, ob Tango\, Neotango oder ContacTango.\n\nIn der Einführung nähern wir uns Prinzipien\, die Körperverständnis und die Verbindung verfeinern\, auf welcher Basis jegliches Lernen von Schritten sowie das Improvisieren wesentlich erleichtern.\nContacTango ist eine Tanzform die den Tango spielerisch etwas öffnet und Element wie kleine Lifts und das verlassen der festen Rollen einfließen lässt. ContacTango ist auch eine Tanzform\,in der der körperliche Dialog aus dem Tango und der Contact Improvisation sich verbindet\, ineinander fließt.\n\nFür jeden der einmal schnuppern möchte gibt es von 19 – 20h eine Einführung. Danach wird zu schönster Musik einer Mischung aus Tango\, Neotango und Nontango getanzt und sich ausgetauscht.Hier ist es egal\, was du kannst\, experimentieren und Spaß am Tanzen stehen im Vordergrund.\n\nDie Veranstaltung findet auf Spendenbasis statt: 10-15\,-€ Einführung\, 7-10\,- Jamilonga nach Selbsteinschätzung\nBitte Anmelden: info@gabrielekoch.net – 01605258336Mehr Veranstaltungen unter www.gabrielekoch.net
URL:https://gabrielekoch.net/event/neotango-jamilonga-2/
LOCATION:Resonanzraum\, Brunnenstr. 24\, Wuppertal\, NRW\, 42105\, Deutschland
ATTACH;FMTTYPE=image/jpeg:https://gabrielekoch.net/wp-content/uploads/2022/12/1001683-2-scaled.jpg
END:VEVENT
BEGIN:VEVENT
DTSTART;TZID=Europe/Berlin:20250428T180000
DTEND;TZID=Europe/Berlin:20250428T194500
DTSTAMP:20260419T162911
CREATED:20250317T152307Z
LAST-MODIFIED:20250324T211025Z
UID:2970-1745863200-1745869500@gabrielekoch.net
SUMMARY:Contact Impro Advanced
DESCRIPTION:Fliegen\, Fallen und Liften! \nIn diesem Kurs geht´s um intuitives Bewegen 360° und Lifting Technik.- wir steigen tief in die Körper- und Bewegungserfahrung ein\, Spiralen\, Schwerkraft\, Faszien\, Falltechnik undundund und  lernen dann spezifische Lifts und Techniken zu heben und gehoben zu werden. \nDu solltest Basiserfahrung im Contact haben und Lust haben dich ins Lernen hineinstürzen! \nStart 28.4. bis zu den Sommerferien. Nicht am Pfingstmontag\n9 Termine 145\,-€ Early bird bis 05.04.. 111\,-€
URL:https://gabrielekoch.net/event/contact-impro-advanced-11/
LOCATION:Resonanzraum\, Brunnenstr. 24\, Wuppertal\, NRW\, 42105\, Deutschland
ATTACH;FMTTYPE=image/jpeg:https://gabrielekoch.net/wp-content/uploads/2022/12/24062016_148-scaled.jpg
END:VEVENT
END:VCALENDAR