BEGIN:VCALENDAR
VERSION:2.0
PRODID:-//gabrielekoch.net - ECPv6.3.1//NONSGML v1.0//EN
CALSCALE:GREGORIAN
METHOD:PUBLISH
X-ORIGINAL-URL:https://gabrielekoch.net
X-WR-CALDESC:Veranstaltungen für gabrielekoch.net
REFRESH-INTERVAL;VALUE=DURATION:PT1H
X-Robots-Tag:noindex
X-PUBLISHED-TTL:PT1H
BEGIN:VTIMEZONE
TZID:Europe/Berlin
BEGIN:DAYLIGHT
TZOFFSETFROM:+0100
TZOFFSETTO:+0200
TZNAME:CEST
DTSTART:20250330T010000
END:DAYLIGHT
BEGIN:STANDARD
TZOFFSETFROM:+0200
TZOFFSETTO:+0100
TZNAME:CET
DTSTART:20251026T010000
END:STANDARD
END:VTIMEZONE
BEGIN:VEVENT
DTSTART;TZID=Europe/Berlin:20251128T180000
DTEND;TZID=Europe/Berlin:20251128T210000
DTSTAMP:20260420T132845
CREATED:20251102T175436Z
LAST-MODIFIED:20251102T175436Z
UID:3365-1764352800-1764363600@gabrielekoch.net
SUMMARY:Schamanischer Abend
DESCRIPTION:Schamanische Abend im Resonanzraum😃 \nWir halten den Abend inhaltlich offen\, lernen uns etwas kennen und überlegen gemeinsam zu Beginn\, was wir gerne machen würden und was sich realisieren lässt an dem Abend. \nDas kann eine Trommelreise sein\, Mantra singen\, eine Reise zum Krafttier\, ein Austausch darüber\, was Schamanismus überhaupt ist\, eine Meditation\, ein kurzer Text zum Thema\, der dann besprochen wird\, eine Diskussion\,… \nBringt gerne eine Trommel\, Kartensets\, magische Objekte\, Federn oder was auch immer thematisch passt mit. \nBringt gerne auch Teebeutel\, Fingerfood mit und Socken/Hausschuhe. \nSpende für den Raum erbeten! 🙏\nSpendenempfehlung 5-10 Euro
URL:https://gabrielekoch.net/event/schamanischer-abend/
LOCATION:Resonanzraum\, Brunnenstr. 24\, Wuppertal\, NRW\, 42105\, Deutschland
ATTACH;FMTTYPE=image/jpeg:https://gabrielekoch.net/wp-content/uploads/2025/11/SchamanischerAbend.jpg
END:VEVENT
END:VCALENDAR