BEGIN:VCALENDAR
VERSION:2.0
PRODID:-//gabrielekoch.net - ECPv6.3.1//NONSGML v1.0//EN
CALSCALE:GREGORIAN
METHOD:PUBLISH
X-ORIGINAL-URL:https://gabrielekoch.net
X-WR-CALDESC:Veranstaltungen für gabrielekoch.net
REFRESH-INTERVAL;VALUE=DURATION:PT1H
X-Robots-Tag:noindex
X-PUBLISHED-TTL:PT1H
BEGIN:VTIMEZONE
TZID:Europe/Berlin
BEGIN:DAYLIGHT
TZOFFSETFROM:+0100
TZOFFSETTO:+0200
TZNAME:CEST
DTSTART:20250330T010000
END:DAYLIGHT
BEGIN:STANDARD
TZOFFSETFROM:+0200
TZOFFSETTO:+0100
TZNAME:CET
DTSTART:20251026T010000
END:STANDARD
END:VTIMEZONE
BEGIN:VEVENT
DTSTART;TZID=Europe/Berlin:20250927T190000
DTEND;TZID=Europe/Berlin:20250927T220000
DTSTAMP:20260422T114833
CREATED:20250715T095938Z
LAST-MODIFIED:20250716T101514Z
UID:3213-1758999600-1759010400@gabrielekoch.net
SUMMARY:Contact Jam
DESCRIPTION:Monatliche Contact Jam\njeweils 4. Samstag im Monat \nWir starten mit einer Anleitung die uns Inspiration gibt\, uns im freien Tanz kreativ zu bewegen\, unseren Körper neu zu erfahren und miteinander neue Möglichkeiten zu erkunden \nBei der Contact Jam gehen in den nonverbaler Dialog und gestalten im Kontakt mit anderen den gemeinsames Tanz\, miteinander fließen und denoch dem eigenen Tanz folgen\, spielen mit dem Körpergewicht\, geben\, nehmen\, teilen. \nWir erfahren Achtsamkeit mit dem eigenen Körper und den Bedürfnissen\, dem Raum und den Mittänzer*innen.\nDu kannst dich alleine bewegen\, zu zweit\, mit mehreren.\nDu kannst Dich austauschen\, deiner Dynamik folgen \nEs entsteht ein gemeinsamer vertrauensvoller Raum der für alle Level offen ist\, jeden willkommen heißt. \nEs sind entweder Live – Musiker vor Ort oder wir wechseln zwischen Stille und unterschiedlicher Musik.\nDu kannst gerne etwas mitbringen! \nDieser Kurs ist Teil des Entwicklungsprojekts der Akademie der Kulturen NRW \nAuf Spendenbasis
URL:https://gabrielekoch.net/event/3213/
LOCATION:Resonanzraum\, Brunnenstr. 24\, Wuppertal\, NRW\, 42105\, Deutschland
ATTACH;FMTTYPE=image/jpeg:https://gabrielekoch.net/wp-content/uploads/2024/12/Jam.jpg
END:VEVENT
END:VCALENDAR