BEGIN:VCALENDAR
VERSION:2.0
PRODID:-//gabrielekoch.net - ECPv6.3.1//NONSGML v1.0//EN
CALSCALE:GREGORIAN
METHOD:PUBLISH
X-ORIGINAL-URL:https://gabrielekoch.net
X-WR-CALDESC:Veranstaltungen für gabrielekoch.net
REFRESH-INTERVAL;VALUE=DURATION:PT1H
X-Robots-Tag:noindex
X-PUBLISHED-TTL:PT1H
BEGIN:VTIMEZONE
TZID:Europe/Berlin
BEGIN:DAYLIGHT
TZOFFSETFROM:+0100
TZOFFSETTO:+0200
TZNAME:CEST
DTSTART:20250330T010000
END:DAYLIGHT
BEGIN:STANDARD
TZOFFSETFROM:+0200
TZOFFSETTO:+0100
TZNAME:CET
DTSTART:20251026T010000
END:STANDARD
END:VTIMEZONE
BEGIN:VEVENT
DTSTART;TZID=Europe/Berlin:20250303T200000
DTEND;TZID=Europe/Berlin:20250303T212000
DTSTAMP:20260421T152553
CREATED:20241212T155144Z
LAST-MODIFIED:20241212T155144Z
UID:2794-1741032000-1741036800@gabrielekoch.net
SUMMARY:Tango Argentino
DESCRIPTION:Tango – mehr als nur Schritte! \nDu möchtest die Magie des tango erleben und hast schon mindestens einen Anfänger WS oder Kurs? \nHier bekommst du einen Einblick in die Grundprinzipien und wie man anfangen kann damit zu spielen! \nVerbindung – Musik – Miteinander Spiel und Komplizenschaft \nAnmeldung ohne Partner*in möglich \nKurs Montags 20-21:20h 9 Termine  145\,-€/111\,-€ 2EARLY BIRD bis  22.12. Studententarif 77\,-€
URL:https://gabrielekoch.net/event/tango-argentino/
LOCATION:Resonanzraum\, Brunnenstr. 24\, Wuppertal\, NRW\, 42105\, Deutschland
ATTACH;FMTTYPE=image/jpeg:https://gabrielekoch.net/wp-content/uploads/2022/12/87201FA6-FF48-4799-8EE0-1B1D91D02CEF-2.jpg
END:VEVENT
END:VCALENDAR