BEGIN:VCALENDAR
VERSION:2.0
PRODID:-//gabrielekoch.net - ECPv6.3.1//NONSGML v1.0//EN
CALSCALE:GREGORIAN
METHOD:PUBLISH
X-ORIGINAL-URL:https://gabrielekoch.net
X-WR-CALDESC:Veranstaltungen für gabrielekoch.net
REFRESH-INTERVAL;VALUE=DURATION:PT1H
X-Robots-Tag:noindex
X-PUBLISHED-TTL:PT1H
BEGIN:VTIMEZONE
TZID:Europe/Berlin
BEGIN:DAYLIGHT
TZOFFSETFROM:+0100
TZOFFSETTO:+0200
TZNAME:CEST
DTSTART:20250330T010000
END:DAYLIGHT
BEGIN:STANDARD
TZOFFSETFROM:+0200
TZOFFSETTO:+0100
TZNAME:CET
DTSTART:20251026T010000
END:STANDARD
END:VTIMEZONE
BEGIN:VEVENT
DTSTART;TZID=Europe/Berlin:20250224T180000
DTEND;TZID=Europe/Berlin:20250224T194500
DTSTAMP:20260421T104102
CREATED:20241202T153138Z
LAST-MODIFIED:20241202T153138Z
UID:2762-1740420000-1740426300@gabrielekoch.net
SUMMARY:Contact Impro Advanced
DESCRIPTION:Hey\, hey\, \nFliegen\, Fallen und Liften! \nIn diesem Kurs geht´s um intuitives Bewegen 360° und Lifting Technik. \nDu solltest Basiserfahrung im Contact haben und Lust haben dich ins Lernen hineinstürzen! \nStart 13.1.\n9 Termine 145\,-€ Early bird bis 13.12. 111\,-€
URL:https://gabrielekoch.net/event/contact-impro-advanced-7/
LOCATION:Resonanzraum\, Brunnenstr. 24\, Wuppertal\, NRW\, 42105\, Deutschland
ATTACH;FMTTYPE=image/jpeg:https://gabrielekoch.net/wp-content/uploads/2023/03/24062016_148-scaled.jpg
END:VEVENT
BEGIN:VEVENT
DTSTART;TZID=Europe/Berlin:20250224T200000
DTEND;TZID=Europe/Berlin:20250224T212000
DTSTAMP:20260421T104102
CREATED:20241212T154509Z
LAST-MODIFIED:20241212T154509Z
UID:2790-1740427200-1740432000@gabrielekoch.net
SUMMARY:Kurs Tango Argentino
DESCRIPTION:Tango – mehr als nur Schritte! \nDu möchtest die Magie des tango erleben und hast schon mindestens einen Anfänger WS oder Kurs? \nHier bekommst du einen Einblick in die Grundprinzipien und wie man anfangen kann damit zu spielen! \nVerbindung – Musik – Miteinander Spiel und Komplizenschaft \nAnmeldung ohne Partner*in möglich \nKurs Montags 20-21:20h 9 Termine  145\,-€/111\,-€ 2EARLY BIRD bis  22.12. Studententarif 77\,-€
URL:https://gabrielekoch.net/event/kurs-tango-argentino-6/
LOCATION:Resonanzraum\, Brunnenstr. 24\, Wuppertal\, NRW\, 42105\, Deutschland
ATTACH;FMTTYPE=image/jpeg:https://gabrielekoch.net/wp-content/uploads/2022/12/87201FA6-FF48-4799-8EE0-1B1D91D02CEF-2.jpg
END:VEVENT
END:VCALENDAR