BEGIN:VCALENDAR
VERSION:2.0
PRODID:-//gabrielekoch.net - ECPv6.3.1//NONSGML v1.0//EN
CALSCALE:GREGORIAN
METHOD:PUBLISH
X-WR-CALNAME:gabrielekoch.net
X-ORIGINAL-URL:https://gabrielekoch.net
X-WR-CALDESC:Veranstaltungen für gabrielekoch.net
REFRESH-INTERVAL;VALUE=DURATION:PT1H
X-Robots-Tag:noindex
X-PUBLISHED-TTL:PT1H
BEGIN:VTIMEZONE
TZID:Europe/Berlin
BEGIN:DAYLIGHT
TZOFFSETFROM:+0100
TZOFFSETTO:+0200
TZNAME:CEST
DTSTART:20250330T010000
END:DAYLIGHT
BEGIN:STANDARD
TZOFFSETFROM:+0200
TZOFFSETTO:+0100
TZNAME:CET
DTSTART:20251026T010000
END:STANDARD
END:VTIMEZONE
BEGIN:VEVENT
DTSTART;TZID=Europe/Berlin:20250118T110000
DTEND;TZID=Europe/Berlin:20250118T160000
DTSTAMP:20260419T164853
CREATED:20241119T145917Z
LAST-MODIFIED:20241119T145917Z
UID:2712-1737198000-1737216000@gabrielekoch.net
SUMMARY:Workshop Contact Improvisation Beginner & Advanced
DESCRIPTION:Samstags: total beginner und interssierte advanced Teilenherm:innen\nSonntags: advanced und interessierte beginner Teilenehmer:innen\n\n\nContact Basics \n\nEin Einladung an alle Contact Tanzenden\, ob absoluter Beginner oder Fortgeschritten\, noch mal in die Basics der Contact Impro einzutauchen. Basics was heisst das? Für mich bedeutet es die Begnung mit dem Boden\, das Rollen\, allein und miteinander bis hin zum Bewegen durch die verschiedenen Ebenen.\nEs bedeutet das Erforschen verschiedene Qualitäten des Kontaktes von leichter Berührung /Haut\, zu mehr Substanz und Gewicht über Muskel und Knochen.\nEs bedeutet den Impulsen und dem gemeinsamen Tanz zu folgen\, fließen lassen und neue Wege finden.\nBasic Lifting\, Body Work\, spielerisches Forschen\, so wie die Langsamkeit als Erfahrung von Bewegung bestimmen den Unterricht und bereiten den Weg für freies Tanzen und entspanntes Jammen.\n\n\nContact Advanced\n\nFallen\, Fliegen – 360\n\nIm Contact Advanced gehen wir einen Schritt weiter\, wir laden die Schwerkraft ein – fallen\, weich wie ein Katze\, finden Stabilität\, wie ein bewegter Baum.\nWir spielen mit der Bewegung in allen Ebenen\, 360° und upside down\, vertrauen und loslassen in dem Bewegungsfluss.\nDazu gibt es Ideen für Lifts bis zur Schulter.\nWir spielen mit Duo und Trio und bringen das Gelernte immer wieder in den freien Tanz.\n\nAuch hier fließen Body Work ein\, spielerisches Forschen\, so wie die Langsamkeit\, aber auch Geschwindigkeit als Erfahrung von Bewegung bestimmen den Unterricht und bereiten den Weg für freies Tanzen und entspanntes Jammen.\n\nSamstag: 11-16 Uhr\nSonntag: 10-15 Uhr\n\nKosten: 100€\, ermässigt 85€\, Preis beide Tage\n1 Tag: 50€/ 43€\n\nOrt:\nTufa Trier\nWechselstrasse 4\n54290 Trier\n1.OG\, Ballettsaal\n\nAnmeldung:\nele.geulen@web.de\nmobil: 01777813737
URL:https://gabrielekoch.net/event/workshop-contact-improvisation-beginner-advanced/
LOCATION:Tufa Trier e.V.\, Wechselstraße 4\, Trier\, 54290\, Deutschland
ATTACH;FMTTYPE=image/jpeg:https://gabrielekoch.net/wp-content/uploads/2022/12/1425419_10202626540724472_1776999374_o.jpg
ORGANIZER;CN="Ele Geulen":MAILTO:ele.geulen@web.de
END:VEVENT
END:VCALENDAR