BEGIN:VCALENDAR
VERSION:2.0
PRODID:-//gabrielekoch.net - ECPv6.3.1//NONSGML v1.0//EN
CALSCALE:GREGORIAN
METHOD:PUBLISH
X-WR-CALNAME:gabrielekoch.net
X-ORIGINAL-URL:https://gabrielekoch.net
X-WR-CALDESC:Veranstaltungen für gabrielekoch.net
REFRESH-INTERVAL;VALUE=DURATION:PT1H
X-Robots-Tag:noindex
X-PUBLISHED-TTL:PT1H
BEGIN:VTIMEZONE
TZID:Europe/Berlin
BEGIN:DAYLIGHT
TZOFFSETFROM:+0100
TZOFFSETTO:+0200
TZNAME:CEST
DTSTART:20240331T010000
END:DAYLIGHT
BEGIN:STANDARD
TZOFFSETFROM:+0200
TZOFFSETTO:+0100
TZNAME:CET
DTSTART:20241027T010000
END:STANDARD
END:VTIMEZONE
BEGIN:VEVENT
DTSTART;TZID=Europe/Berlin:20241201T120000
DTEND;TZID=Europe/Berlin:20241201T160000
DTSTAMP:20260421T134715
CREATED:20241126T183346Z
LAST-MODIFIED:20241126T183346Z
UID:2728-1733054400-1733068800@gabrielekoch.net
SUMMARY:Kleidertausch & Nachbarschaftsplausch
DESCRIPTION:Eine herzliche Einladung an alle Menschen\, groß und klein\, jung und alt\, woher ihr auch immer kommt\,. um schönes zu bringen oder zu finden und gemeinsam bei Kaffee\, Tee und Gebäckauf Spendenbasis! \nEs darf parallel gejammt werden: Contact oder Acroyoga – wir freuen uns!
URL:https://gabrielekoch.net/event/kleidertausch-nachbarschaftsplausch-2/
LOCATION:Resonanzraum\, Brunnenstr. 24\, Wuppertal\, NRW\, 42105\, Deutschland
ATTACH;FMTTYPE=image/jpeg:https://gabrielekoch.net/wp-content/uploads/2024/10/2.-November-Herbstlicher-Kleidertausch-2.jpg
END:VEVENT
END:VCALENDAR