BEGIN:VCALENDAR
VERSION:2.0
PRODID:-//gabrielekoch.net - ECPv6.3.1//NONSGML v1.0//EN
CALSCALE:GREGORIAN
METHOD:PUBLISH
X-ORIGINAL-URL:https://gabrielekoch.net
X-WR-CALDESC:Veranstaltungen für gabrielekoch.net
REFRESH-INTERVAL;VALUE=DURATION:PT1H
X-Robots-Tag:noindex
X-PUBLISHED-TTL:PT1H
BEGIN:VTIMEZONE
TZID:Europe/Berlin
BEGIN:DAYLIGHT
TZOFFSETFROM:+0100
TZOFFSETTO:+0200
TZNAME:CEST
DTSTART:20240331T010000
END:DAYLIGHT
BEGIN:STANDARD
TZOFFSETFROM:+0200
TZOFFSETTO:+0100
TZNAME:CET
DTSTART:20241027T010000
END:STANDARD
END:VTIMEZONE
BEGIN:VEVENT
DTSTART;TZID=Europe/Berlin:20240512T110000
DTEND;TZID=Europe/Berlin:20240512T174000
DTSTAMP:20260419T150801
CREATED:20240407T104039Z
LAST-MODIFIED:20240418T150935Z
UID:2136-1715511600-1715535600@gabrielekoch.net
SUMMARY:LISTENING BODY – Embodiment into DANCE
DESCRIPTION:Auf den Flügeln des Beckens \nKurstage Sonntags 12.5.; 9.6. & 7.7. \nJeweils 11.00h – 17.40h\n\nKosten: 65\,-€/ 1 Termin;\n\n\nMonatsbeitrag 65\,-€; \nDieser Kurs ist ein Angebot der Akademie der Kulturen NRW findet statt im Rahmen des „Entwicklungsprojekt Tanz“.\nDie Kurse sind gefördert vom Land NRW im Rahmen der Entwicklungsprojekte Weiterbildung. \n\nOrt:\nResonanzraum\nBrunnenstraße 24\, 42105 Wuppertal\n\nAnmeldung/Info: info@gabrielekoch.net\nwww.Gabrielekoch.net\nIn diesen Kurs geht es darum tief in die eigene Körperwahrnehmung einzutauchen. In der „verkörperten Bewegung“ visualisieren wir  verschiedenste Körper – Systeme wie Knochen\, Muskeln\, Organe oder vieles mehr\, spüren in uns hinein\, vertiefen unser Gefühl für unseren eigenen Körper\, lösen Blockaden und Spannungen\, finden neue Bewegungsqualitäten und Möglichkeiten in unseren eigenen Tanz zu fließen. Hands On\, Elemente aus der Improvisation und Contact Improvisation fließen ein.\nDiese Serie beschäftigt sich mit dem faszinierenden Becken\, dass wie zwei Flügel das Kreuzbein  umschließt. \nJeden Workshoptag werden wir eine neue Verbindung des Beckens zu anderen Körperteilen erschließen. \n11.5.:  Die Verbindung  vom Becken in die Beine – Erdung und mobile Stabilität mit Leichtigkeit \n8.6.: Das Becken in Verbindung mit der Wirbelsäule und dem Kopf – Dreidimensionalität in Bewegung und Aufrichtung \n6.7.: Das Becken und Organe – Weichheit und Fluss – Freiheit und Halt \nDie Tage könne einzeln\, aber auch als Paket gebucht werden\, was die Möglichkeit gibt eine komplexe Verbindung zu finden. \nDiese heilsame Bewegung in der sich jeder in seinem eigenen Rahmen bewegt\, ist für jedes Alter und jegliche Erfahrungsstufe möglich und sinnvoll\, ob Profi der seine Bewegungsqualitäten vertiefen will oder Laie\, der ein neues Körpergefühl erlangen will. Die Gruppe bietet Vertrauen und Sicherheit sich in die freie Bewegung zu geben\, in tiefe gemeinsame Körpererfahrungen zu tauchen und sich über die eigenen Erfahrungen zwanglos miteinander auszutauschen.
URL:https://gabrielekoch.net/event/listening-body-embodiment-into-dance/
LOCATION:Resonanzraum\, Brunnenstr. 24\, Wuppertal\, NRW\, 42105\, Deutschland
ATTACH;FMTTYPE=image/png:https://gabrielekoch.net/wp-content/uploads/2024/04/Dein-Abschnittstext-2.png
END:VEVENT
END:VCALENDAR